BEGIN:VCALENDAR
VERSION:2.0
PRODID:-//ChamberMaster//Event Calendar 2.0//EN
METHOD:PUBLISH
X-PUBLISHED-TTL:P3D
REFRESH-INTERVAL:P3D
CALSCALE:GREGORIAN
BEGIN:VEVENT
DTSTART:20250428T220000Z
DTEND:20250429T010000Z
X-MICROSOFT-CDO-ALLDAYEVENT:FALSE
SUMMARY:An Evening with Angels
DESCRIPTION:Ever wanted to connect with your loved ones in spirit? This is your opportunity! We are thrilled to have locally known and well-respected spiritual medium\, Laura Lee connecting us with past loved ones for a very special "Evening with Angels."\n\n\n\n6:00-7:00- Cash bar\, appetizers\, socializing\, networking.\n\n7:00-9:00- Spiritual Readings and Connections
X-ALT-DESC;FMTTYPE=text/html:<span style="font-size:14px\;"><span style="color:#EE82EE\;"><em><strong>Ever wanted to connect with your loved ones in spirit? This is your opportunity! We are thrilled to have locally known and well-respected spiritual medium\, Laura Lee connecting us with past loved ones for a very special &quot\;Evening with Angels.&quot\;<br />\n<br />\n6:00-7:00- Cash bar\, appetizers\, socializing\, networking.<br />\n7:00-9:00- Spiritual Readings and Connections&nbsp\;</strong></em></span></span>
LOCATION:Knight of Columbus Hall 570 North Ave Wakefield\, MA
UID:e.2278.1143
SEQUENCE:3
DTSTAMP:20260423T110606Z
URL:http://business.wakefieldareachamber.org/events/details/an-evening-with-angels-1143
END:VEVENT

END:VCALENDAR
